{ "currentVersion": 10.91, "cimVersion": "2.9.0", "serviceDescription": "
Unbelaubte Luftbilder aus März/April 2020 aufgeteilt nach Gemeinden. Im Grenzgebiet zum HSK liegen unbelaubte Luftbilder von 2018 vor. Im Grenzgebiet zu den Kreisen Soest und Gütersloh liegen belaubte Luftbilder von Mai 2020 vor.<\/span><\/p><\/div><\/div>",
"mapName": "Layer",
"description": " Unbelaubte Luftbilder aus März/April 2020 aufgeteilt nach Gemeinden. Im Grenzgebiet zum HSK liegen unbelaubte Luftbilder von 2018 vor. Im Grenzgebiet zu den Kreisen Soest und Gütersloh liegen belaubte Luftbilder von Mai 2020 vor.<\/SPAN><\/P><\/DIV><\/DIV>",
"copyrightText": "Land NRW - Kreis Paderborn (2025), Datenlizenz Deutschland \u2013 Namensnennung \u2013 Version 2.0, www.govdata.de/dl-de/by-2-0",
"supportsDynamicLayers": true,
"layers": [
{
"id": 0,
"name": "KPB_Luftbilder2020",
"parentLayerId": -1,
"defaultVisibility": true,
"subLayerIds": [
1,
2,
3,
4,
5,
6,
7,
8,
9,
10,
11,
12
],
"minScale": 0,
"maxScale": 0,
"type": "Group Layer",
"supportsDynamicLegends": false
},
{
"id": 1,
"name": "ALT_Luftbilder_2020_10cm",
"parentLayerId": 0,
"defaultVisibility": true,
"subLayerIds": null,
"minScale": 250020,
"maxScale": 95,
"type": "Raster Layer",
"supportsDynamicLegends": true
},
{
"id": 2,
"name": "BOR_Luftbilder_2020_10cm",
"parentLayerId": 0,
"defaultVisibility": true,
"subLayerIds": null,
"minScale": 250020,
"maxScale": 95,
"type": "Raster Layer",
"supportsDynamicLegends": true
},
{
"id": 3,
"name": "BUE_Luftbilder_2020_10cm",
"parentLayerId": 0,
"defaultVisibility": true,
"subLayerIds": null,
"minScale": 250020,
"maxScale": 95,
"type": "Raster Layer",
"supportsDynamicLegends": true
},
{
"id": 4,
"name": "DEL_Luftbilder_2020_10cm",
"parentLayerId": 0,
"defaultVisibility": true,
"subLayerIds": null,
"minScale": 250020,
"maxScale": 95,
"type": "Raster Layer",
"supportsDynamicLegends": true
},
{
"id": 5,
"name": "HOE_Luftbilder_2020_10cm",
"parentLayerId": 0,
"defaultVisibility": true,
"subLayerIds": null,
"minScale": 250020,
"maxScale": 95,
"type": "Raster Layer",
"supportsDynamicLegends": true
},
{
"id": 6,
"name": "LIC_Luftbilder_2020_10cm",
"parentLayerId": 0,
"defaultVisibility": true,
"subLayerIds": null,
"minScale": 250020,
"maxScale": 95,
"type": "Raster Layer",
"supportsDynamicLegends": true
},
{
"id": 7,
"name": "LIP_Luftbilder_2020_10cm",
"parentLayerId": 0,
"defaultVisibility": true,
"subLayerIds": null,
"minScale": 250020,
"maxScale": 95,
"type": "Raster Layer",
"supportsDynamicLegends": true
},
{
"id": 8,
"name": "WUE_Luftbilder_2020_10cm",
"parentLayerId": 0,
"defaultVisibility": true,
"subLayerIds": null,
"minScale": 250020,
"maxScale": 95,
"type": "Raster Layer",
"supportsDynamicLegends": true
},
{
"id": 9,
"name": "SPB_Luftbilder_2020_10cm",
"parentLayerId": 0,
"defaultVisibility": true,
"subLayerIds": null,
"minScale": 250020,
"maxScale": 95,
"type": "Raster Layer",
"supportsDynamicLegends": true
},
{
"id": 10,
"name": "SAL_Luftbilder_2020_10cm",
"parentLayerId": 0,
"defaultVisibility": true,
"subLayerIds": null,
"minScale": 250020,
"maxScale": 95,
"type": "Raster Layer",
"supportsDynamicLegends": true
},
{
"id": 11,
"name": "KPB_Belaubt_2020_10cm",
"parentLayerId": 0,
"defaultVisibility": true,
"subLayerIds": null,
"minScale": 250020,
"maxScale": 95,
"type": "Raster Layer",
"supportsDynamicLegends": true
},
{
"id": 12,
"name": "KPB_Unbelaubt_2018_10cm",
"parentLayerId": 0,
"defaultVisibility": true,
"subLayerIds": null,
"minScale": 250020,
"maxScale": 95,
"type": "Raster Layer",
"supportsDynamicLegends": true
}
],
"tables": [],
"spatialReference": {
"wkid": 25832,
"latestWkid": 25832,
"xyTolerance": 0.001,
"zTolerance": 2,
"mTolerance": 0.001,
"falseX": -5120900,
"falseY": -9998100,
"xyUnits": 4.504455473910538E8,
"falseZ": 0,
"zUnits": 1,
"falseM": -100000,
"mUnits": 10000
},
"singleFusedMapCache": true,
"tileInfo": {
"rows": 256,
"cols": 256,
"dpi": 96,
"format": "MIXED",
"compressionQuality": 75,
"origin": {
"x": -5120900,
"y": 9998100
},
"spatialReference": {
"wkid": 25832,
"latestWkid": 25832,
"xyTolerance": 0.001,
"zTolerance": 2,
"mTolerance": 0.001,
"falseX": -5120900,
"falseY": -9998100,
"xyUnits": 4.504455473910538E8,
"falseZ": 0,
"zUnits": 1,
"falseM": -100000,
"mUnits": 10000
},
"lods": [
{
"level": 0,
"resolution": 66.1459656252646,
"scale": 250000
},
{
"level": 1,
"resolution": 26.458386250105836,
"scale": 100000
},
{
"level": 2,
"resolution": 13.229193125052918,
"scale": 50000
},
{
"level": 3,
"resolution": 6.614596562526459,
"scale": 25000
},
{
"level": 4,
"resolution": 2.6458386250105836,
"scale": 10000
},
{
"level": 5,
"resolution": 1.3229193125052918,
"scale": 5000
},
{
"level": 6,
"resolution": 0.5291677250021167,
"scale": 2000
},
{
"level": 7,
"resolution": 0.26458386250105836,
"scale": 1000
},
{
"level": 8,
"resolution": 0.13229193125052918,
"scale": 500
},
{
"level": 9,
"resolution": 0.06614596562526459,
"scale": 250
}
]
},
"storageInfo": {
"storageFormat": "esriMapCacheStorageModeCompactV2",
"packetSize": 128
},
"initialExtent": {
"xmin": 439039.0314113962,
"ymin": 5674114.176031116,
"xmax": 528475.531284396,
"ymax": 5762433.882981665,
"spatialReference": {
"wkid": 25832,
"latestWkid": 25832,
"xyTolerance": 0.001,
"zTolerance": 2,
"mTolerance": 0.001,
"falseX": -5120900,
"falseY": -9998100,
"xyUnits": 4.504455473910538E8,
"falseZ": 0,
"zUnits": 1,
"falseM": -100000,
"mUnits": 10000
}
},
"fullExtent": {
"xmin": 458000,
"ymin": 5699000,
"xmax": 502000,
"ymax": 5748000,
"spatialReference": {
"wkid": 25832,
"latestWkid": 25832,
"xyTolerance": 0.001,
"zTolerance": 2,
"mTolerance": 0.001,
"falseX": -5120900,
"falseY": -9998100,
"xyUnits": 4.504455473910538E8,
"falseZ": 0,
"zUnits": 1,
"falseM": -100000,
"mUnits": 10000
}
},
"datesInUnknownTimezone": false,
"minScale": 250000,
"maxScale": 250,
"units": "esriMeters",
"supportedImageFormatTypes": "PNG32,PNG24,PNG,JPG,DIB,TIFF,EMF,PS,PDF,GIF,SVG,SVGZ,BMP",
"documentInfo": {
"Title": "Kreis PB: Luftbilder 2020 (unbelaubt, kachelbasiert)",
"Author": "",
"Comments": " Unbelaubte Luftbilder aus März/April 2020 aufgeteilt nach Gemeinden. Im Grenzgebiet zum HSK liegen unbelaubte Luftbilder von 2018 vor. Im Grenzgebiet zu den Kreisen Soest und Gütersloh liegen belaubte Luftbilder von Mai 2020 vor.<\/SPAN><\/P><\/DIV><\/DIV>",
"Subject": "Luftbilder 2020 Kreis Paderborn",
"Category": "",
"AntialiasingMode": "None",
"TextAntialiasingMode": "Force",
"Version": "2.9.0",
"Keywords": "Luftbilder 2020 Kreis Paderborn"
},
"supportsQueryDomains": true,
"capabilities": "Map,Query,Data",
"supportedQueryFormats": "JSON, geoJSON, PBF",
"exportTilesAllowed": false,
"referenceScale": 0.0,
"supportsDatumTransformation": true,
"archivingInfo": {"supportsHistoricMoment": false},
"supportsClipping": true,
"supportsSpatialFilter": true,
"supportsTimeRelation": true,
"supportsQueryDataElements": true,
"maxRecordCount": 1000,
"maxImageHeight": 4096,
"maxImageWidth": 4096,
"supportedExtensions": "WMSServer",
"resampling": false
}