{
 "currentVersion": 10.91,
 "serviceDescription": " Liegenschaftskarte Transparent<\/span><\/p><\/div><\/div><\/div>",
 "mapName": "Layer",
 "description": "",
 "copyrightText": "Land NRW - Kreis Paderborn (2025), Datenlizenz Deutschland \u2013 Namensnennung \u2013 Version 2.0, www.govdata.de/dl-de/by-2-0",
 "supportsDynamicLayers": true,
 "layers": [
  {
   "id": 0,
   "name": "ALKIS Flurstücke",
   "parentLayerId": -1,
   "defaultVisibility": true,
   "subLayerIds": null,
   "minScale": 250050,
   "maxScale": 102,
   "type": "Feature Layer",
   "geometryType": "esriGeometryPolygon"
  },
  {
   "id": 1,
   "name": "ALKIS Liegenschaftskarte Grundkarte",
   "parentLayerId": -1,
   "defaultVisibility": true,
   "subLayerIds": [
    2,
    146
   ],
   "minScale": 0,
   "maxScale": 0,
   "type": "Group Layer"
  },
  {
   "id": 2,
   "name": "Punkte und Beschriftungen",
   "parentLayerId": 1,
   "defaultVisibility": true,
   "subLayerIds": [
    3,
    100,
    104,
    109,
    113,
    117,
    123,
    127,
    132,
    138
   ],
   "minScale": 0,
   "maxScale": 0,
   "type": "Group Layer"
  },
  {
   "id": 3,
   "name": "Flurstücke, Lage, Punkte (Punkte und Beschriftungen)",
   "parentLayerId": 2,
   "defaultVisibility": true,
   "subLayerIds": [
    4,
    92,
    94,
    96,
    97,
    98,
    99
   ],
   "minScale": 0,
   "maxScale": 0,
   "type": "Group Layer"
  },
  {
   "id": 4,
   "name": "Beschriftung Flurstück Vorschau",
   "parentLayerId": 3,
   "defaultVisibility": true,
   "subLayerIds": [
    91
   ],
   "minScale": 3030,
   "maxScale": 2021,
   "type": "Annotation Layer",
   "geometryType": "esriGeometryPolygon"
  },
  {
   "id": 91,
   "name": "Beschriftung Flurstück Vorschau ",
   "parentLayerId": 4,
   "defaultVisibility": true,
   "subLayerIds": null,
   "minScale": 0,
   "maxScale": 0
  },
  {
   "id": 92,
   "name": "Beschriftung Flurstück (DLKM)",
   "parentLayerId": 3,
   "defaultVisibility": true,
   "subLayerIds": [
    93
   ],
   "minScale": 2020,
   "maxScale": 0,
   "type": "Annotation Layer",
   "geometryType": "esriGeometryPolygon"
  },
  {
   "id": 93,
   "name": "Beschriftung Flurstück (DLKM) ",
   "parentLayerId": 92,
   "defaultVisibility": true,
   "subLayerIds": null,
   "minScale": 0,
   "maxScale": 0
  },
  {
   "id": 94,
   "name": "Beschriftung Flurstück (DKKM)",
   "parentLayerId": 3,
   "defaultVisibility": true,
   "subLayerIds": [
    95
   ],
   "minScale": 2020,
   "maxScale": 0,
   "type": "Annotation Layer",
   "geometryType": "esriGeometryPolygon"
  },
  {
   "id": 95,
   "name": "Beschriftung Flurstück (DKKM) ",
   "parentLayerId": 94,
   "defaultVisibility": true,
   "subLayerIds": null,
   "minScale": 0,
   "maxScale": 0
  },
  {
   "id": 96,
   "name": "Beschriftungslinien Flurstück (DKKM)",
   "parentLayerId": 3,
   "defaultVisibility": true,
   "subLayerIds": null,
   "minScale": 2020,
   "maxScale": 0,
   "type": "Feature Layer",
   "geometryType": "esriGeometryPolyline"
  },
  {
   "id": 97,
   "name": "Punktort TA (Grenzpunkte auf Flurstücksgrenze)",
   "parentLayerId": 3,
   "defaultVisibility": true,
   "subLayerIds": null,
   "minScale": 1010,
   "maxScale": 0,
   "type": "Feature Layer",
   "geometryType": "esriGeometryPoint"
  },
  {
   "id": 98,
   "name": "Punktort AU (Punkte mit unabhängiger Geometrie)",
   "parentLayerId": 3,
   "defaultVisibility": true,
   "subLayerIds": null,
   "minScale": 1010,
   "maxScale": 0,
   "type": "Feature Layer",
   "geometryType": "esriGeometryPoint"
  },
  {
   "id": 99,
   "name": "Ausgestaltung Flurstück Punkte (DKKM)",
   "parentLayerId": 3,
   "defaultVisibility": true,
   "subLayerIds": null,
   "minScale": 2020,
   "maxScale": 0,
   "type": "Feature Layer",
   "geometryType": "esriGeometryMultipoint"
  },
  {
   "id": 100,
   "name": "Gebäude (Punkte und Beschriftungen)",
   "parentLayerId": 2,
   "defaultVisibility": true,
   "subLayerIds": [
    101,
    103
   ],
   "minScale": 0,
   "maxScale": 0,
   "type": "Group Layer"
  },
  {
   "id": 101,
   "name": "Beschriftung Gebäude (DKKM)",
   "parentLayerId": 100,
   "defaultVisibility": true,
   "subLayerIds": [
    102
   ],
   "minScale": 2020,
   "maxScale": 0,
   "type": "Annotation Layer",
   "geometryType": "esriGeometryPolygon"
  },
  {
   "id": 102,
   "name": "Beschriftung Gebäude (DKKM) ",
   "parentLayerId": 101,
   "defaultVisibility": true,
   "subLayerIds": null,
   "minScale": 0,
   "maxScale": 0
  },
  {
   "id": 103,
   "name": "Ausgestaltung Gebäude Punkte (DKKM)",
   "parentLayerId": 100,
   "defaultVisibility": true,
   "subLayerIds": null,
   "minScale": 2020,
   "maxScale": 0,
   "type": "Feature Layer",
   "geometryType": "esriGeometryMultipoint"
  },
  {
   "id": 104,
   "name": "TN Gewässer (Punkte und Beschriftungen)",
   "parentLayerId": 2,
   "defaultVisibility": true,
   "subLayerIds": [
    105,
    107,
    108
   ],
   "minScale": 0,
   "maxScale": 0,
   "type": "Group Layer"
  },
  {
   "id": 105,
   "name": "Beschriftung Gewässer (DKKM)",
   "parentLayerId": 104,
   "defaultVisibility": true,
   "subLayerIds": [
    106
   ],
   "minScale": 2020,
   "maxScale": 0,
   "type": "Annotation Layer",
   "geometryType": "esriGeometryPolygon"
  },
  {
   "id": 106,
   "name": "Beschriftung Gewässer (DKKM) ",
   "parentLayerId": 105,
   "defaultVisibility": true,
   "subLayerIds": null,
   "minScale": 0,
   "maxScale": 0
  },
  {
   "id": 107,
   "name": "Ausgestaltung Gewässer Punkte (DLKM)",
   "parentLayerId": 104,
   "defaultVisibility": true,
   "subLayerIds": null,
   "minScale": 2020,
   "maxScale": 0,
   "type": "Feature Layer",
   "geometryType": "esriGeometryMultipoint"
  },
  {
   "id": 108,
   "name": "Ausgestaltung Gewässer Punkte (DKKM)",
   "parentLayerId": 104,
   "defaultVisibility": true,
   "subLayerIds": null,
   "minScale": 2020,
   "maxScale": 0,
   "type": "Feature Layer",
   "geometryType": "esriGeometryMultipoint"
  },
  {
   "id": 109,
   "name": "TN Vegetation (Punkte und Beschriftungen)",
   "parentLayerId": 2,
   "defaultVisibility": true,
   "subLayerIds": [
    110,
    112
   ],
   "minScale": 0,
   "maxScale": 0,
   "type": "Group Layer"
  },
  {
   "id": 110,
   "name": "Beschriftung Vegetation (DKKM)",
   "parentLayerId": 109,
   "defaultVisibility": true,
   "subLayerIds": [
    111
   ],
   "minScale": 2020,
   "maxScale": 0,
   "type": "Annotation Layer",
   "geometryType": "esriGeometryPolygon"
  },
  {
   "id": 111,
   "name": "Beschriftung Vegetation (DKKM) ",
   "parentLayerId": 110,
   "defaultVisibility": true,
   "subLayerIds": null,
   "minScale": 0,
   "maxScale": 0
  },
  {
   "id": 112,
   "name": "Ausgestaltung Vegetation Punkte (DKKM)",
   "parentLayerId": 109,
   "defaultVisibility": true,
   "subLayerIds": null,
   "minScale": 2020,
   "maxScale": 0,
   "type": "Feature Layer",
   "geometryType": "esriGeometryMultipoint"
  },
  {
   "id": 113,
   "name": "TN Verkehr (Punkte und Beschriftungen)",
   "parentLayerId": 2,
   "defaultVisibility": true,
   "subLayerIds": [
    114,
    116
   ],
   "minScale": 0,
   "maxScale": 0,
   "type": "Group Layer"
  },
  {
   "id": 114,
   "name": "Beschriftung Verkehr (DKKM)",
   "parentLayerId": 113,
   "defaultVisibility": true,
   "subLayerIds": [
    115
   ],
   "minScale": 2020,
   "maxScale": 0,
   "type": "Annotation Layer",
   "geometryType": "esriGeometryPolygon"
  },
  {
   "id": 115,
   "name": "Beschriftung Verkehr (DKKM) ",
   "parentLayerId": 114,
   "defaultVisibility": true,
   "subLayerIds": null,
   "minScale": 0,
   "maxScale": 0
  },
  {
   "id": 116,
   "name": "Ausgestaltung Verkehr Punkte (DKKM)",
   "parentLayerId": 113,
   "defaultVisibility": true,
   "subLayerIds": null,
   "minScale": 2020,
   "maxScale": 0,
   "type": "Feature Layer",
   "geometryType": "esriGeometryMultipoint"
  },
  {
   "id": 117,
   "name": "TN Siedlung (Punkte und Beschriftungen)",
   "parentLayerId": 2,
   "defaultVisibility": true,
   "subLayerIds": [
    118,
    120,
    122
   ],
   "minScale": 0,
   "maxScale": 0,
   "type": "Group Layer"
  },
  {
   "id": 118,
   "name": "Beschriftung Siedlung (DLKM)",
   "parentLayerId": 117,
   "defaultVisibility": true,
   "subLayerIds": [
    119
   ],
   "minScale": 2020,
   "maxScale": 0,
   "type": "Annotation Layer",
   "geometryType": "esriGeometryPolygon"
  },
  {
   "id": 119,
   "name": "Beschriftung Siedlung (DLKM) ",
   "parentLayerId": 118,
   "defaultVisibility": true,
   "subLayerIds": null,
   "minScale": 0,
   "maxScale": 0
  },
  {
   "id": 120,
   "name": "Beschriftung Siedlung (DKKM)",
   "parentLayerId": 117,
   "defaultVisibility": true,
   "subLayerIds": [
    121
   ],
   "minScale": 2020,
   "maxScale": 0,
   "type": "Annotation Layer",
   "geometryType": "esriGeometryPolygon"
  },
  {
   "id": 121,
   "name": "Beschriftung Siedlung (DKKM) ",
   "parentLayerId": 120,
   "defaultVisibility": true,
   "subLayerIds": null,
   "minScale": 0,
   "maxScale": 0
  },
  {
   "id": 122,
   "name": "Ausgestaltung Siedlung Punkte (DKKM)",
   "parentLayerId": 117,
   "defaultVisibility": true,
   "subLayerIds": null,
   "minScale": 2020,
   "maxScale": 0,
   "type": "Feature Layer",
   "geometryType": "esriGeometryMultipoint"
  },
  {
   "id": 123,
   "name": "Besondere Eigenschaften von Gewässern (Punkte und Beschriftungen)",
   "parentLayerId": 2,
   "defaultVisibility": true,
   "subLayerIds": [
    124,
    126
   ],
   "minScale": 0,
   "maxScale": 0,
   "type": "Group Layer"
  },
  {
   "id": 124,
   "name": "Beschriftung Besondere Eigenschaften von Gewässern (DKKM)",
   "parentLayerId": 123,
   "defaultVisibility": true,
   "subLayerIds": [
    125
   ],
   "minScale": 2020,
   "maxScale": 0,
   "type": "Annotation Layer",
   "geometryType": "esriGeometryPolygon"
  },
  {
   "id": 125,
   "name": "Beschriftung Besondere Eigenschaften von Gewässern (DKKM) ",
   "parentLayerId": 124,
   "defaultVisibility": true,
   "subLayerIds": null,
   "minScale": 0,
   "maxScale": 0
  },
  {
   "id": 126,
   "name": "Gewässermerkmal Punkte",
   "parentLayerId": 123,
   "defaultVisibility": true,
   "subLayerIds": null,
   "minScale": 1010,
   "maxScale": 0,
   "type": "Feature Layer",
   "geometryType": "esriGeometryMultipoint"
  },
  {
   "id": 127,
   "name": "Besondere Vegetationsmerkmale (Punkte und Beschriftungen)",
   "parentLayerId": 2,
   "defaultVisibility": true,
   "subLayerIds": [
    128,
    130,
    131
   ],
   "minScale": 0,
   "maxScale": 0,
   "type": "Group Layer"
  },
  {
   "id": 128,
   "name": "Beschriftung Vegetationsmerkmale (DKKM)",
   "parentLayerId": 127,
   "defaultVisibility": true,
   "subLayerIds": [
    129
   ],
   "minScale": 2020,
   "maxScale": 0,
   "type": "Annotation Layer",
   "geometryType": "esriGeometryPolygon"
  },
  {
   "id": 129,
   "name": "Beschriftung Vegetationsmerkmale (DKKM) ",
   "parentLayerId": 128,
   "defaultVisibility": true,
   "subLayerIds": null,
   "minScale": 0,
   "maxScale": 0
  },
  {
   "id": 130,
   "name": "Ausgestaltung Vegetationsmerkmale Punkte (DKKM)",
   "parentLayerId": 127,
   "defaultVisibility": true,
   "subLayerIds": null,
   "minScale": 1010,
   "maxScale": 0,
   "type": "Feature Layer",
   "geometryType": "esriGeometryMultipoint"
  },
  {
   "id": 131,
   "name": "Vegetationsmerkmal Punkte",
   "parentLayerId": 127,
   "defaultVisibility": true,
   "subLayerIds": null,
   "minScale": 1010,
   "maxScale": 0,
   "type": "Feature Layer",
   "geometryType": "esriGeometryMultipoint"
  },
  {
   "id": 132,
   "name": "Bauwerke, Anlagen und Einrichtungen für den Verkehr (Punkte und Beschriftungen)",
   "parentLayerId": 2,
   "defaultVisibility": true,
   "subLayerIds": [
    133,
    135,
    136,
    137
   ],
   "minScale": 0,
   "maxScale": 0,
   "type": "Group Layer"
  },
  {
   "id": 133,
   "name": "Beschriftung Bauwerke, Anlagen und Einrichtungen für den Verkehr (DKKM)",
   "parentLayerId": 132,
   "defaultVisibility": true,
   "subLayerIds": [
    134
   ],
   "minScale": 2020,
   "maxScale": 0,
   "type": "Annotation Layer",
   "geometryType": "esriGeometryPolygon"
  },
  {
   "id": 134,
   "name": "Beschriftung Bauwerke, Anlagen und Einrichtungen für den Verkehr (DKKM) ",
   "parentLayerId": 133,
   "defaultVisibility": true,
   "subLayerIds": null,
   "minScale": 0,
   "maxScale": 0
  },
  {
   "id": 135,
   "name": "Ausgestaltung Einrichtungen für den Verkehr Punkte (DKKM)",
   "parentLayerId": 132,
   "defaultVisibility": true,
   "subLayerIds": null,
   "minScale": 2020,
   "maxScale": 0,
   "type": "Feature Layer",
   "geometryType": "esriGeometryMultipoint"
  },
  {
   "id": 136,
   "name": "Bauwerk im Gewässerbereich Punkte",
   "parentLayerId": 132,
   "defaultVisibility": true,
   "subLayerIds": null,
   "minScale": 2020,
   "maxScale": 0,
   "type": "Feature Layer",
   "geometryType": "esriGeometryMultipoint"
  },
  {
   "id": 137,
   "name": "Bahnverkehrsanlage Punkte",
   "parentLayerId": 132,
   "defaultVisibility": true,
   "subLayerIds": null,
   "minScale": 2020,
   "maxScale": 0,
   "type": "Feature Layer",
   "geometryType": "esriGeometryMultipoint"
  },
  {
   "id": 138,
   "name": "Bauwerke und Einrichtungen in Siedlungsflächen (Punkte und Beschriftungen)",
   "parentLayerId": 2,
   "defaultVisibility": true,
   "subLayerIds": [
    139,
    141,
    142,
    143,
    144,
    145
   ],
   "minScale": 0,
   "maxScale": 0,
   "type": "Group Layer"
  },
  {
   "id": 139,
   "name": "Beschriftung Bauwerke und Einrichtungen in Siedlungsflächen (DKKM)",
   "parentLayerId": 138,
   "defaultVisibility": true,
   "subLayerIds": [
    140
   ],
   "minScale": 2020,
   "maxScale": 0,
   "type": "Annotation Layer",
   "geometryType": "esriGeometryPolygon"
  },
  {
   "id": 140,
   "name": "Beschriftung Bauwerke und Einrichtungen in Siedlungsflächen (DKKM) ",
   "parentLayerId": 139,
   "defaultVisibility": true,
   "subLayerIds": null,
   "minScale": 0,
   "maxScale": 0
  },
  {
   "id": 141,
   "name": "Ausgestaltung Siedlungsflächen Punkte (DKKM)",
   "parentLayerId": 138,
   "defaultVisibility": true,
   "subLayerIds": null,
   "minScale": 1010,
   "maxScale": 0,
   "type": "Feature Layer",
   "geometryType": "esriGeometryMultipoint"
  },
  {
   "id": 142,
   "name": "Sonstiges Bauwerk, sonstige Einrichtung Punkte",
   "parentLayerId": 138,
   "defaultVisibility": true,
   "subLayerIds": null,
   "minScale": 2020,
   "maxScale": 0,
   "type": "Feature Layer",
   "geometryType": "esriGeometryMultipoint"
  },
  {
   "id": 143,
   "name": "Historisches Bauwerk oder historische Einrichtung Punkte",
   "parentLayerId": 138,
   "defaultVisibility": true,
   "subLayerIds": null,
   "minScale": 2020,
   "maxScale": 0,
   "type": "Feature Layer",
   "geometryType": "esriGeometryMultipoint"
  },
  {
   "id": 144,
   "name": "Transportanlage Punkte",
   "parentLayerId": 138,
   "defaultVisibility": true,
   "subLayerIds": null,
   "minScale": 2020,
   "maxScale": 0,
   "type": "Feature Layer",
   "geometryType": "esriGeometryMultipoint"
  },
  {
   "id": 145,
   "name": "Bauwerk oder Anlage für Industrie und Gewerbe Punkte",
   "parentLayerId": 138,
   "defaultVisibility": true,
   "subLayerIds": null,
   "minScale": 2020,
   "maxScale": 0,
   "type": "Feature Layer",
   "geometryType": "esriGeometryMultipoint"
  },
  {
   "id": 146,
   "name": "Linien und Flächen",
   "parentLayerId": 1,
   "defaultVisibility": true,
   "subLayerIds": [
    147,
    151,
    159,
    161,
    164
   ],
   "minScale": 0,
   "maxScale": 0,
   "type": "Group Layer"
  },
  {
   "id": 147,
   "name": "Flurstücke, Lage, Punkte (Linien und Flächen)",
   "parentLayerId": 146,
   "defaultVisibility": true,
   "subLayerIds": [
    148,
    149,
    150
   ],
   "minScale": 0,
   "maxScale": 0,
   "type": "Group Layer"
  },
  {
   "id": 148,
   "name": "Besondere Flurstücksgrenze Vorschau",
   "parentLayerId": 147,
   "defaultVisibility": true,
   "subLayerIds": null,
   "minScale": 0,
   "maxScale": 10001,
   "type": "Feature Layer",
   "geometryType": "esriGeometryPolyline"
  },
  {
   "id": 149,
   "name": "Besondere Flurstücksgrenze",
   "parentLayerId": 147,
   "defaultVisibility": true,
   "subLayerIds": null,
   "minScale": 1500,
   "maxScale": 0,
   "type": "Feature Layer",
   "geometryType": "esriGeometryPolyline"
  },
  {
   "id": 150,
   "name": "Flurstücke (DLKM)",
   "parentLayerId": 147,
   "defaultVisibility": true,
   "subLayerIds": null,
   "minScale": 10000,
   "maxScale": 0,
   "type": "Feature Layer",
   "geometryType": "esriGeometryPolygon"
  },
  {
   "id": 151,
   "name": "Gebäude (Linien und Flächen)",
   "parentLayerId": 146,
   "defaultVisibility": true,
   "subLayerIds": [
    152,
    153,
    154,
    155
   ],
   "minScale": 0,
   "maxScale": 0,
   "type": "Group Layer"
  },
  {
   "id": 152,
   "name": "Besondere Gebäudelinie",
   "parentLayerId": 151,
   "defaultVisibility": true,
   "subLayerIds": null,
   "minScale": 2020,
   "maxScale": 0,
   "type": "Feature Layer",
   "geometryType": "esriGeometryPolyline"
  },
  {
   "id": 153,
   "name": "Bauteil",
   "parentLayerId": 151,
   "defaultVisibility": true,
   "subLayerIds": null,
   "minScale": 2020,
   "maxScale": 0,
   "type": "Feature Layer",
   "geometryType": "esriGeometryPolygon"
  },
  {
   "id": 154,
   "name": "Gebäude",
   "parentLayerId": 151,
   "defaultVisibility": true,
   "subLayerIds": null,
   "minScale": 3030,
   "maxScale": 0,
   "type": "Feature Layer",
   "geometryType": "esriGeometryPolygon"
  },
  {
   "id": 155,
   "name": "Bauwerke und Einrichtungen in Siedlungsflächen (Linien und Flächen)",
   "parentLayerId": 151,
   "defaultVisibility": true,
   "subLayerIds": [
    156,
    157,
    158
   ],
   "minScale": 0,
   "maxScale": 0,
   "type": "Group Layer"
  },
  {
   "id": 156,
   "name": "Sonstiges Bauwerk, sonstige Einrichtung Flächen",
   "parentLayerId": 155,
   "defaultVisibility": true,
   "subLayerIds": null,
   "minScale": 3030,
   "maxScale": 0,
   "type": "Feature Layer",
   "geometryType": "esriGeometryPolygon"
  },
  {
   "id": 157,
   "name": "Vorratsbehälter Speicherbauwerk Flächen",
   "parentLayerId": 155,
   "defaultVisibility": true,
   "subLayerIds": null,
   "minScale": 3030,
   "maxScale": 0,
   "type": "Feature Layer",
   "geometryType": "esriGeometryPolygon"
  },
  {
   "id": 158,
   "name": "Bauwerk oder Anlage für Industrie und Gewerbe Flächen",
   "parentLayerId": 155,
   "defaultVisibility": true,
   "subLayerIds": null,
   "minScale": 5050,
   "maxScale": 0,
   "type": "Feature Layer",
   "geometryType": "esriGeometryPolygon"
  },
  {
   "id": 159,
   "name": "Primäres DGM (Linien und Flächen)",
   "parentLayerId": 146,
   "defaultVisibility": true,
   "subLayerIds": [
    160
   ],
   "minScale": 0,
   "maxScale": 0,
   "type": "Group Layer"
  },
  {
   "id": 160,
   "name": "Strukturlinie",
   "parentLayerId": 159,
   "defaultVisibility": true,
   "subLayerIds": null,
   "minScale": 2020,
   "maxScale": 0,
   "type": "Feature Layer",
   "geometryType": "esriGeometryPolyline"
  },
  {
   "id": 161,
   "name": "Reliefformen (Linien und Flächen)",
   "parentLayerId": 146,
   "defaultVisibility": true,
   "subLayerIds": [
    162,
    163
   ],
   "minScale": 0,
   "maxScale": 0,
   "type": "Group Layer"
  },
  {
   "id": 162,
   "name": "Damm, Wall, Deich Flächen",
   "parentLayerId": 161,
   "defaultVisibility": true,
   "subLayerIds": null,
   "minScale": 5050,
   "maxScale": 0,
   "type": "Feature Layer",
   "geometryType": "esriGeometryPolygon"
  },
  {
   "id": 163,
   "name": "Ausgestaltung Böschungsflächen",
   "parentLayerId": 161,
   "defaultVisibility": true,
   "subLayerIds": null,
   "minScale": 2020,
   "maxScale": 0,
   "type": "Feature Layer",
   "geometryType": "esriGeometryPolyline"
  },
  {
   "id": 164,
   "name": "TatsaechlicheNutzung",
   "parentLayerId": 146,
   "defaultVisibility": true,
   "subLayerIds": null,
   "minScale": 25250,
   "maxScale": 0,
   "type": "Feature Layer",
   "geometryType": "esriGeometryPolygon"
  }
 ],
 "tables": [],
 "spatialReference": {
  "wkid": 25832,
  "latestWkid": 25832
 },
 "singleFusedMapCache": true,
 "tileInfo": {
  "rows": 256,
  "cols": 256,
  "dpi": 96,
  "format": "PNG",
  "compressionQuality": 0,
  "origin": {
   "x": -5120900,
   "y": 9998100
  },
  "spatialReference": {
   "wkid": 25832,
   "latestWkid": 25832
  },
  "lods": [
   {
    "level": 0,
    "resolution": 66.1459656252646,
    "scale": 250000
   },
   {
    "level": 1,
    "resolution": 26.458386250105836,
    "scale": 100000
   },
   {
    "level": 2,
    "resolution": 13.229193125052918,
    "scale": 50000
   },
   {
    "level": 3,
    "resolution": 6.614596562526459,
    "scale": 25000
   },
   {
    "level": 4,
    "resolution": 2.6458386250105836,
    "scale": 10000
   },
   {
    "level": 5,
    "resolution": 1.3229193125052918,
    "scale": 5000
   },
   {
    "level": 6,
    "resolution": 0.5291677250021167,
    "scale": 2000
   },
   {
    "level": 7,
    "resolution": 0.26458386250105836,
    "scale": 1000
   },
   {
    "level": 8,
    "resolution": 0.13229193125052918,
    "scale": 500
   },
   {
    "level": 9,
    "resolution": 0.06614596562526459,
    "scale": 250
   }
  ]
 },
 "initialExtent": {
  "xmin": 478812.2068377667,
  "ymin": 5731548.470776919,
  "xmax": 479434.6403743004,
  "ymax": 5731760.799326576,
  "spatialReference": {
   "wkid": 25832,
   "latestWkid": 25832
  }
 },
 "fullExtent": {
  "xmin": 0,
  "ymin": 0,
  "xmax": 3492601.12,
  "ymax": 5747557.358,
  "spatialReference": {
   "wkid": 25832,
   "latestWkid": 25832
  }
 },
 "minScale": 250000,
 "maxScale": 250,
 "minLOD": 0,
 "maxLOD": 9,
 "units": "esriMeters",
 "supportedImageFormatTypes": "PNG32,PNG24,PNG,JPG,DIB,TIFF,EMF,PS,PDF,GIF,SVG,SVGZ,BMP",
 "documentInfo": {
  "Title": "Kreis PB: Liegenschaftskarte (transparent, kachelbasiert)",
  "Author": "",
  "Comments": "Liegenschaftskarte Transparent, kachelbasiert",
  "Subject": "Liegenschaftskarte transparent, gecached",
  "Category": "",
  "AntialiasingMode": "None",
  "TextAntialiasingMode": "Force",
  "Keywords": "Kreis PB: Liegenschaftskarte (transparent,kachelbasiert)"
 },
 "capabilities": "Map,Query,Data",
 "supportedQueryFormats": "JSON, geoJSON",
 "exportTilesAllowed": false,
 "referenceScale": 1000,
 "supportsDatumTransformation": true,
 "maxRecordCount": 1000,
 "maxImageHeight": 4096,
 "maxImageWidth": 4096,
 "supportedExtensions": "WMSServer",
 "resampling": false
}
